BEGIN:VCALENDAR
VERSION:2.0
PRODID:-//Lugoff First Baptist Church - ECPv6.6.4.2//NONSGML v1.0//EN
CALSCALE:GREGORIAN
METHOD:PUBLISH
X-WR-CALNAME:Lugoff First Baptist Church
X-ORIGINAL-URL:https://lugofffbc.com
X-WR-CALDESC:Events for Lugoff First Baptist Church
REFRESH-INTERVAL;VALUE=DURATION:PT1H
X-Robots-Tag:noindex
X-PUBLISHED-TTL:PT1H
BEGIN:VTIMEZONE
TZID:UTC
BEGIN:STANDARD
TZOFFSETFROM:+0000
TZOFFSETTO:+0000
TZNAME:UTC
DTSTART:20240101T000000
END:STANDARD
END:VTIMEZONE
BEGIN:VEVENT
DTSTART;TZID=UTC:20250323T103000
DTEND;TZID=UTC:20250323T113000
DTSTAMP:20260419T152330
CREATED:20200707T163006Z
LAST-MODIFIED:20250320T124155Z
UID:1899-1742725800-1742729400@lugofffbc.com
SUMMARY:Sunday Morning Service In-person and Simulcast
DESCRIPTION:Join us each week in-person or online as we share God’s Word on our Sunday Morning Worship Service at 10:30.  The service will be at Lugoff First Baptist Church  and YouTube our channel. We look forward to seeing you there. 
URL:https://lugofffbc.com/event/sunday-service-simulcast-2025-03-23/
LOCATION:SC
CATEGORIES:Worship
ATTACH;FMTTYPE=image/jpeg:https://lugofffbc.com/wp-content/uploads/2020/07/Mar-23.jpg
END:VEVENT
BEGIN:VEVENT
DTSTART;TZID=UTC:20250316T103000
DTEND;TZID=UTC:20250316T113000
DTSTAMP:20260419T152330
CREATED:20200707T163006Z
LAST-MODIFIED:20200707T163006Z
UID:1894-1742121000-1742124600@lugofffbc.com
SUMMARY:Sunday Service Simulcast
DESCRIPTION:Join us each week online as we share God’s Word on our Sunday Morning Worship Service at 10:30.  The service will be on Lugoff First Baptist Church YouTube and Facebook channels. We look forward to seeing you there. 
URL:https://lugofffbc.com/event/sunday-service-simulcast-2025-03-16/
LOCATION:106 Longtown Rd\, Lugoff\, SC\, 29078\, United States
CATEGORIES:Worship
ATTACH;FMTTYPE=image/png:https://lugofffbc.com/wp-content/uploads/2020/07/Screen-Shot-2020-07-07-at-8.28.04-AM.png
END:VEVENT
BEGIN:VEVENT
DTSTART;TZID=UTC:20250309T103000
DTEND;TZID=UTC:20250309T113000
DTSTAMP:20260419T152330
CREATED:20200707T163006Z
LAST-MODIFIED:20200707T163006Z
UID:1890-1741516200-1741519800@lugofffbc.com
SUMMARY:Sunday Service Simulcast
DESCRIPTION:Join us each week online as we share God’s Word on our Sunday Morning Worship Service at 10:30.  The service will be on Lugoff First Baptist Church YouTube and Facebook channels. We look forward to seeing you there. 
URL:https://lugofffbc.com/event/sunday-service-simulcast-2025-03-09/
LOCATION:106 Longtown Rd\, Lugoff\, SC\, 29078\, United States
CATEGORIES:Worship
ATTACH;FMTTYPE=image/png:https://lugofffbc.com/wp-content/uploads/2020/07/Screen-Shot-2020-07-07-at-8.28.04-AM.png
END:VEVENT
BEGIN:VEVENT
DTSTART;TZID=UTC:20250302T103000
DTEND;TZID=UTC:20250302T113000
DTSTAMP:20260419T152330
CREATED:20200707T163006Z
LAST-MODIFIED:20200707T163006Z
UID:1885-1740911400-1740915000@lugofffbc.com
SUMMARY:Sunday Service Simulcast
DESCRIPTION:Join us each week online as we share God’s Word on our Sunday Morning Worship Service at 10:30.  The service will be on Lugoff First Baptist Church YouTube and Facebook channels. We look forward to seeing you there. 
URL:https://lugofffbc.com/event/sunday-service-simulcast-2025-03-02/
LOCATION:106 Longtown Rd\, Lugoff\, SC\, 29078\, United States
CATEGORIES:Worship
ATTACH;FMTTYPE=image/png:https://lugofffbc.com/wp-content/uploads/2020/07/Screen-Shot-2020-07-07-at-8.28.04-AM.png
END:VEVENT
BEGIN:VEVENT
DTSTART;TZID=UTC:20250223T103000
DTEND;TZID=UTC:20250223T113000
DTSTAMP:20260419T152330
CREATED:20200707T163006Z
LAST-MODIFIED:20200707T163006Z
UID:1881-1740306600-1740310200@lugofffbc.com
SUMMARY:Sunday Service Simulcast
DESCRIPTION:Join us each week online as we share God’s Word on our Sunday Morning Worship Service at 10:30.  The service will be on Lugoff First Baptist Church YouTube and Facebook channels. We look forward to seeing you there. 
URL:https://lugofffbc.com/event/sunday-service-simulcast-2025-02-23/
LOCATION:106 Longtown Rd\, Lugoff\, SC\, 29078\, United States
CATEGORIES:Worship
ATTACH;FMTTYPE=image/png:https://lugofffbc.com/wp-content/uploads/2020/07/Screen-Shot-2020-07-07-at-8.28.04-AM.png
END:VEVENT
BEGIN:VEVENT
DTSTART;TZID=UTC:20250216T103000
DTEND;TZID=UTC:20250216T113000
DTSTAMP:20260419T152330
CREATED:20200707T163006Z
LAST-MODIFIED:20200707T163006Z
UID:1876-1739701800-1739705400@lugofffbc.com
SUMMARY:Sunday Service Simulcast
DESCRIPTION:Join us each week online as we share God’s Word on our Sunday Morning Worship Service at 10:30.  The service will be on Lugoff First Baptist Church YouTube and Facebook channels. We look forward to seeing you there. 
URL:https://lugofffbc.com/event/sunday-service-simulcast-2025-02-16/
LOCATION:106 Longtown Rd\, Lugoff\, SC\, 29078\, United States
CATEGORIES:Worship
ATTACH;FMTTYPE=image/png:https://lugofffbc.com/wp-content/uploads/2020/07/Screen-Shot-2020-07-07-at-8.28.04-AM.png
END:VEVENT
BEGIN:VEVENT
DTSTART;TZID=UTC:20250209T103000
DTEND;TZID=UTC:20250209T113000
DTSTAMP:20260419T152330
CREATED:20200707T163006Z
LAST-MODIFIED:20200707T163006Z
UID:1873-1739097000-1739100600@lugofffbc.com
SUMMARY:Sunday Service Simulcast
DESCRIPTION:Join us each week online as we share God’s Word on our Sunday Morning Worship Service at 10:30.  The service will be on Lugoff First Baptist Church YouTube and Facebook channels. We look forward to seeing you there. 
URL:https://lugofffbc.com/event/sunday-service-simulcast-2025-02-09/
LOCATION:106 Longtown Rd\, Lugoff\, SC\, 29078\, United States
CATEGORIES:Worship
ATTACH;FMTTYPE=image/png:https://lugofffbc.com/wp-content/uploads/2020/07/Screen-Shot-2020-07-07-at-8.28.04-AM.png
END:VEVENT
BEGIN:VEVENT
DTSTART;TZID=UTC:20250202T103000
DTEND;TZID=UTC:20250202T113000
DTSTAMP:20260419T152330
CREATED:20200707T163006Z
LAST-MODIFIED:20200707T163006Z
UID:1866-1738492200-1738495800@lugofffbc.com
SUMMARY:Sunday Service Simulcast
DESCRIPTION:Join us each week online as we share God’s Word on our Sunday Morning Worship Service at 10:30.  The service will be on Lugoff First Baptist Church YouTube and Facebook channels. We look forward to seeing you there. 
URL:https://lugofffbc.com/event/sunday-service-simulcast-2025-02-02/
LOCATION:106 Longtown Rd\, Lugoff\, SC\, 29078\, United States
CATEGORIES:Worship
ATTACH;FMTTYPE=image/png:https://lugofffbc.com/wp-content/uploads/2020/07/Screen-Shot-2020-07-07-at-8.28.04-AM.png
END:VEVENT
BEGIN:VEVENT
DTSTART;TZID=UTC:20250126T103000
DTEND;TZID=UTC:20250126T113000
DTSTAMP:20260419T152330
CREATED:20200707T163006Z
LAST-MODIFIED:20200707T163006Z
UID:1861-1737887400-1737891000@lugofffbc.com
SUMMARY:Sunday Service Simulcast
DESCRIPTION:Join us each week online as we share God’s Word on our Sunday Morning Worship Service at 10:30.  The service will be on Lugoff First Baptist Church YouTube and Facebook channels. We look forward to seeing you there. 
URL:https://lugofffbc.com/event/sunday-service-simulcast-2025-01-26/
LOCATION:106 Longtown Rd\, Lugoff\, SC\, 29078\, United States
CATEGORIES:Worship
ATTACH;FMTTYPE=image/png:https://lugofffbc.com/wp-content/uploads/2020/07/Screen-Shot-2020-07-07-at-8.28.04-AM.png
END:VEVENT
BEGIN:VEVENT
DTSTART;TZID=UTC:20250119T103000
DTEND;TZID=UTC:20250119T113000
DTSTAMP:20260419T152330
CREATED:20200707T163006Z
LAST-MODIFIED:20200707T163006Z
UID:1855-1737282600-1737286200@lugofffbc.com
SUMMARY:Sunday Service Simulcast
DESCRIPTION:Join us each week online as we share God’s Word on our Sunday Morning Worship Service at 10:30.  The service will be on Lugoff First Baptist Church YouTube and Facebook channels. We look forward to seeing you there. 
URL:https://lugofffbc.com/event/sunday-service-simulcast-2025-01-19/
LOCATION:106 Longtown Rd\, Lugoff\, SC\, 29078\, United States
CATEGORIES:Worship
ATTACH;FMTTYPE=image/png:https://lugofffbc.com/wp-content/uploads/2020/07/Screen-Shot-2020-07-07-at-8.28.04-AM.png
END:VEVENT
BEGIN:VEVENT
DTSTART;TZID=UTC:20250112T103000
DTEND;TZID=UTC:20250112T113000
DTSTAMP:20260419T152330
CREATED:20200707T163006Z
LAST-MODIFIED:20200707T163006Z
UID:1850-1736677800-1736681400@lugofffbc.com
SUMMARY:Sunday Service Simulcast
DESCRIPTION:Join us each week online as we share God’s Word on our Sunday Morning Worship Service at 10:30.  The service will be on Lugoff First Baptist Church YouTube and Facebook channels. We look forward to seeing you there. 
URL:https://lugofffbc.com/event/sunday-service-simulcast-2025-01-12/
LOCATION:106 Longtown Rd\, Lugoff\, SC\, 29078\, United States
CATEGORIES:Worship
ATTACH;FMTTYPE=image/png:https://lugofffbc.com/wp-content/uploads/2020/07/Screen-Shot-2020-07-07-at-8.28.04-AM.png
END:VEVENT
BEGIN:VEVENT
DTSTART;TZID=UTC:20250105T103000
DTEND;TZID=UTC:20250105T113000
DTSTAMP:20260419T152330
CREATED:20200707T163006Z
LAST-MODIFIED:20200707T163006Z
UID:1847-1736073000-1736076600@lugofffbc.com
SUMMARY:Sunday Service Simulcast
DESCRIPTION:Join us each week online as we share God’s Word on our Sunday Morning Worship Service at 10:30.  The service will be on Lugoff First Baptist Church YouTube and Facebook channels. We look forward to seeing you there. 
URL:https://lugofffbc.com/event/sunday-service-simulcast-2025-01-05/
LOCATION:106 Longtown Rd\, Lugoff\, SC\, 29078\, United States
CATEGORIES:Worship
ATTACH;FMTTYPE=image/png:https://lugofffbc.com/wp-content/uploads/2020/07/Screen-Shot-2020-07-07-at-8.28.04-AM.png
END:VEVENT
BEGIN:VEVENT
DTSTART;TZID=UTC:20241229T103000
DTEND;TZID=UTC:20241229T113000
DTSTAMP:20260419T152330
CREATED:20200707T163006Z
LAST-MODIFIED:20200707T163006Z
UID:1842-1735468200-1735471800@lugofffbc.com
SUMMARY:Sunday Service Simulcast
DESCRIPTION:Join us each week online as we share God’s Word on our Sunday Morning Worship Service at 10:30.  The service will be on Lugoff First Baptist Church YouTube and Facebook channels. We look forward to seeing you there. 
URL:https://lugofffbc.com/event/sunday-service-simulcast-2024-12-29/
LOCATION:106 Longtown Rd\, Lugoff\, SC\, 29078\, United States
CATEGORIES:Worship
ATTACH;FMTTYPE=image/png:https://lugofffbc.com/wp-content/uploads/2020/07/Screen-Shot-2020-07-07-at-8.28.04-AM.png
END:VEVENT
BEGIN:VEVENT
DTSTART;TZID=UTC:20241222T103000
DTEND;TZID=UTC:20241222T113000
DTSTAMP:20260419T152330
CREATED:20200707T163006Z
LAST-MODIFIED:20200707T163006Z
UID:1839-1734863400-1734867000@lugofffbc.com
SUMMARY:Sunday Service Simulcast
DESCRIPTION:Join us each week online as we share God’s Word on our Sunday Morning Worship Service at 10:30.  The service will be on Lugoff First Baptist Church YouTube and Facebook channels. We look forward to seeing you there. 
URL:https://lugofffbc.com/event/sunday-service-simulcast-2024-12-22/
LOCATION:106 Longtown Rd\, Lugoff\, SC\, 29078\, United States
CATEGORIES:Worship
ATTACH;FMTTYPE=image/png:https://lugofffbc.com/wp-content/uploads/2020/07/Screen-Shot-2020-07-07-at-8.28.04-AM.png
END:VEVENT
BEGIN:VEVENT
DTSTART;TZID=UTC:20241215T103000
DTEND;TZID=UTC:20241215T113000
DTSTAMP:20260419T152330
CREATED:20200707T163006Z
LAST-MODIFIED:20200707T163006Z
UID:1836-1734258600-1734262200@lugofffbc.com
SUMMARY:Sunday Service Simulcast
DESCRIPTION:Join us each week online as we share God’s Word on our Sunday Morning Worship Service at 10:30.  The service will be on Lugoff First Baptist Church YouTube and Facebook channels. We look forward to seeing you there. 
URL:https://lugofffbc.com/event/sunday-service-simulcast-2024-12-15/
LOCATION:106 Longtown Rd\, Lugoff\, SC\, 29078\, United States
CATEGORIES:Worship
ATTACH;FMTTYPE=image/png:https://lugofffbc.com/wp-content/uploads/2020/07/Screen-Shot-2020-07-07-at-8.28.04-AM.png
END:VEVENT
BEGIN:VEVENT
DTSTART;TZID=UTC:20241208T103000
DTEND;TZID=UTC:20241208T113000
DTSTAMP:20260419T152330
CREATED:20200707T163006Z
LAST-MODIFIED:20200707T163006Z
UID:1831-1733653800-1733657400@lugofffbc.com
SUMMARY:Sunday Service Simulcast
DESCRIPTION:Join us each week online as we share God’s Word on our Sunday Morning Worship Service at 10:30.  The service will be on Lugoff First Baptist Church YouTube and Facebook channels. We look forward to seeing you there. 
URL:https://lugofffbc.com/event/sunday-service-simulcast-2024-12-08/
LOCATION:106 Longtown Rd\, Lugoff\, SC\, 29078\, United States
CATEGORIES:Worship
ATTACH;FMTTYPE=image/png:https://lugofffbc.com/wp-content/uploads/2020/07/Screen-Shot-2020-07-07-at-8.28.04-AM.png
END:VEVENT
BEGIN:VEVENT
DTSTART;TZID=UTC:20241201T103000
DTEND;TZID=UTC:20241201T113000
DTSTAMP:20260419T152330
CREATED:20200707T163006Z
LAST-MODIFIED:20200707T163006Z
UID:1826-1733049000-1733052600@lugofffbc.com
SUMMARY:Sunday Service Simulcast
DESCRIPTION:Join us each week online as we share God’s Word on our Sunday Morning Worship Service at 10:30.  The service will be on Lugoff First Baptist Church YouTube and Facebook channels. We look forward to seeing you there. 
URL:https://lugofffbc.com/event/sunday-service-simulcast-2024-12-01/
LOCATION:106 Longtown Rd\, Lugoff\, SC\, 29078\, United States
CATEGORIES:Worship
ATTACH;FMTTYPE=image/png:https://lugofffbc.com/wp-content/uploads/2020/07/Screen-Shot-2020-07-07-at-8.28.04-AM.png
END:VEVENT
BEGIN:VEVENT
DTSTART;TZID=UTC:20241124T103000
DTEND;TZID=UTC:20241124T113000
DTSTAMP:20260419T152330
CREATED:20200707T163006Z
LAST-MODIFIED:20200707T163006Z
UID:1823-1732444200-1732447800@lugofffbc.com
SUMMARY:Sunday Service Simulcast
DESCRIPTION:Join us each week online as we share God’s Word on our Sunday Morning Worship Service at 10:30.  The service will be on Lugoff First Baptist Church YouTube and Facebook channels. We look forward to seeing you there. 
URL:https://lugofffbc.com/event/sunday-service-simulcast-2024-11-24/
LOCATION:106 Longtown Rd\, Lugoff\, SC\, 29078\, United States
CATEGORIES:Worship
ATTACH;FMTTYPE=image/png:https://lugofffbc.com/wp-content/uploads/2020/07/Screen-Shot-2020-07-07-at-8.28.04-AM.png
END:VEVENT
BEGIN:VEVENT
DTSTART;TZID=UTC:20241117T103000
DTEND;TZID=UTC:20241117T113000
DTSTAMP:20260419T152330
CREATED:20200707T163006Z
LAST-MODIFIED:20200707T163006Z
UID:1819-1731839400-1731843000@lugofffbc.com
SUMMARY:Sunday Service Simulcast
DESCRIPTION:Join us each week online as we share God’s Word on our Sunday Morning Worship Service at 10:30.  The service will be on Lugoff First Baptist Church YouTube and Facebook channels. We look forward to seeing you there. 
URL:https://lugofffbc.com/event/sunday-service-simulcast-2024-11-17/
LOCATION:106 Longtown Rd\, Lugoff\, SC\, 29078\, United States
CATEGORIES:Worship
ATTACH;FMTTYPE=image/png:https://lugofffbc.com/wp-content/uploads/2020/07/Screen-Shot-2020-07-07-at-8.28.04-AM.png
END:VEVENT
BEGIN:VEVENT
DTSTART;TZID=UTC:20241110T103000
DTEND;TZID=UTC:20241110T113000
DTSTAMP:20260419T152330
CREATED:20200707T163006Z
LAST-MODIFIED:20200707T163006Z
UID:1815-1731234600-1731238200@lugofffbc.com
SUMMARY:Sunday Service Simulcast
DESCRIPTION:Join us each week online as we share God’s Word on our Sunday Morning Worship Service at 10:30.  The service will be on Lugoff First Baptist Church YouTube and Facebook channels. We look forward to seeing you there. 
URL:https://lugofffbc.com/event/sunday-service-simulcast-2024-11-10/
LOCATION:106 Longtown Rd\, Lugoff\, SC\, 29078\, United States
CATEGORIES:Worship
ATTACH;FMTTYPE=image/png:https://lugofffbc.com/wp-content/uploads/2020/07/Screen-Shot-2020-07-07-at-8.28.04-AM.png
END:VEVENT
BEGIN:VEVENT
DTSTART;TZID=UTC:20241103T103000
DTEND;TZID=UTC:20241103T113000
DTSTAMP:20260419T152330
CREATED:20200707T163006Z
LAST-MODIFIED:20200707T163006Z
UID:1808-1730629800-1730633400@lugofffbc.com
SUMMARY:Sunday Service Simulcast
DESCRIPTION:Join us each week online as we share God’s Word on our Sunday Morning Worship Service at 10:30.  The service will be on Lugoff First Baptist Church YouTube and Facebook channels. We look forward to seeing you there. 
URL:https://lugofffbc.com/event/sunday-service-simulcast-2024-11-03/
LOCATION:106 Longtown Rd\, Lugoff\, SC\, 29078\, United States
CATEGORIES:Worship
ATTACH;FMTTYPE=image/png:https://lugofffbc.com/wp-content/uploads/2020/07/Screen-Shot-2020-07-07-at-8.28.04-AM.png
END:VEVENT
BEGIN:VEVENT
DTSTART;TZID=UTC:20241027T103000
DTEND;TZID=UTC:20241027T113000
DTSTAMP:20260419T152330
CREATED:20200707T163006Z
LAST-MODIFIED:20200707T163006Z
UID:1804-1730025000-1730028600@lugofffbc.com
SUMMARY:Sunday Service Simulcast
DESCRIPTION:Join us each week online as we share God’s Word on our Sunday Morning Worship Service at 10:30.  The service will be on Lugoff First Baptist Church YouTube and Facebook channels. We look forward to seeing you there. 
URL:https://lugofffbc.com/event/sunday-service-simulcast-2024-10-27/
LOCATION:106 Longtown Rd\, Lugoff\, SC\, 29078\, United States
CATEGORIES:Worship
ATTACH;FMTTYPE=image/png:https://lugofffbc.com/wp-content/uploads/2020/07/Screen-Shot-2020-07-07-at-8.28.04-AM.png
END:VEVENT
BEGIN:VEVENT
DTSTART;TZID=UTC:20241020T103000
DTEND;TZID=UTC:20241020T113000
DTSTAMP:20260419T152330
CREATED:20200707T163006Z
LAST-MODIFIED:20200707T163006Z
UID:1800-1729420200-1729423800@lugofffbc.com
SUMMARY:Sunday Service Simulcast
DESCRIPTION:Join us each week online as we share God’s Word on our Sunday Morning Worship Service at 10:30.  The service will be on Lugoff First Baptist Church YouTube and Facebook channels. We look forward to seeing you there. 
URL:https://lugofffbc.com/event/sunday-service-simulcast-2024-10-20/
LOCATION:106 Longtown Rd\, Lugoff\, SC\, 29078\, United States
CATEGORIES:Worship
ATTACH;FMTTYPE=image/png:https://lugofffbc.com/wp-content/uploads/2020/07/Screen-Shot-2020-07-07-at-8.28.04-AM.png
END:VEVENT
BEGIN:VEVENT
DTSTART;TZID=UTC:20241013T103000
DTEND;TZID=UTC:20241013T113000
DTSTAMP:20260419T152330
CREATED:20200707T163006Z
LAST-MODIFIED:20200707T163006Z
UID:1796-1728815400-1728819000@lugofffbc.com
SUMMARY:Sunday Service Simulcast
DESCRIPTION:Join us each week online as we share God’s Word on our Sunday Morning Worship Service at 10:30.  The service will be on Lugoff First Baptist Church YouTube and Facebook channels. We look forward to seeing you there. 
URL:https://lugofffbc.com/event/sunday-service-simulcast-2024-10-13/
LOCATION:106 Longtown Rd\, Lugoff\, SC\, 29078\, United States
CATEGORIES:Worship
ATTACH;FMTTYPE=image/png:https://lugofffbc.com/wp-content/uploads/2020/07/Screen-Shot-2020-07-07-at-8.28.04-AM.png
END:VEVENT
BEGIN:VEVENT
DTSTART;TZID=UTC:20241006T103000
DTEND;TZID=UTC:20241006T113000
DTSTAMP:20260419T152330
CREATED:20200707T163006Z
LAST-MODIFIED:20200707T163006Z
UID:1793-1728210600-1728214200@lugofffbc.com
SUMMARY:Sunday Service Simulcast
DESCRIPTION:Join us each week online as we share God’s Word on our Sunday Morning Worship Service at 10:30.  The service will be on Lugoff First Baptist Church YouTube and Facebook channels. We look forward to seeing you there. 
URL:https://lugofffbc.com/event/sunday-service-simulcast-2024-10-06/
LOCATION:106 Longtown Rd\, Lugoff\, SC\, 29078\, United States
CATEGORIES:Worship
ATTACH;FMTTYPE=image/png:https://lugofffbc.com/wp-content/uploads/2020/07/Screen-Shot-2020-07-07-at-8.28.04-AM.png
END:VEVENT
BEGIN:VEVENT
DTSTART;TZID=UTC:20240929T103000
DTEND;TZID=UTC:20240929T113000
DTSTAMP:20260419T152330
CREATED:20200707T163006Z
LAST-MODIFIED:20200707T163006Z
UID:1784-1727605800-1727609400@lugofffbc.com
SUMMARY:Sunday Service Simulcast
DESCRIPTION:Join us each week online as we share God’s Word on our Sunday Morning Worship Service at 10:30.  The service will be on Lugoff First Baptist Church YouTube and Facebook channels. We look forward to seeing you there. 
URL:https://lugofffbc.com/event/sunday-service-simulcast-2024-09-29/
LOCATION:106 Longtown Rd\, Lugoff\, SC\, 29078\, United States
CATEGORIES:Worship
ATTACH;FMTTYPE=image/png:https://lugofffbc.com/wp-content/uploads/2020/07/Screen-Shot-2020-07-07-at-8.28.04-AM.png
END:VEVENT
BEGIN:VEVENT
DTSTART;TZID=UTC:20240922T103000
DTEND;TZID=UTC:20240922T113000
DTSTAMP:20260419T152330
CREATED:20200707T163006Z
LAST-MODIFIED:20200707T163006Z
UID:1780-1727001000-1727004600@lugofffbc.com
SUMMARY:Sunday Service Simulcast
DESCRIPTION:Join us each week online as we share God’s Word on our Sunday Morning Worship Service at 10:30.  The service will be on Lugoff First Baptist Church YouTube and Facebook channels. We look forward to seeing you there. 
URL:https://lugofffbc.com/event/sunday-service-simulcast-2024-09-22/
LOCATION:106 Longtown Rd\, Lugoff\, SC\, 29078\, United States
CATEGORIES:Worship
ATTACH;FMTTYPE=image/png:https://lugofffbc.com/wp-content/uploads/2020/07/Screen-Shot-2020-07-07-at-8.28.04-AM.png
END:VEVENT
BEGIN:VEVENT
DTSTART;TZID=UTC:20240915T103000
DTEND;TZID=UTC:20240915T113000
DTSTAMP:20260419T152330
CREATED:20200707T163006Z
LAST-MODIFIED:20200707T163006Z
UID:1777-1726396200-1726399800@lugofffbc.com
SUMMARY:Sunday Service Simulcast
DESCRIPTION:Join us each week online as we share God’s Word on our Sunday Morning Worship Service at 10:30.  The service will be on Lugoff First Baptist Church YouTube and Facebook channels. We look forward to seeing you there. 
URL:https://lugofffbc.com/event/sunday-service-simulcast-2024-09-15/
LOCATION:106 Longtown Rd\, Lugoff\, SC\, 29078\, United States
CATEGORIES:Worship
ATTACH;FMTTYPE=image/png:https://lugofffbc.com/wp-content/uploads/2020/07/Screen-Shot-2020-07-07-at-8.28.04-AM.png
END:VEVENT
BEGIN:VEVENT
DTSTART;TZID=UTC:20240908T103000
DTEND;TZID=UTC:20240908T113000
DTSTAMP:20260419T152330
CREATED:20200707T163006Z
LAST-MODIFIED:20200707T163006Z
UID:1771-1725791400-1725795000@lugofffbc.com
SUMMARY:Sunday Service Simulcast
DESCRIPTION:Join us each week online as we share God’s Word on our Sunday Morning Worship Service at 10:30.  The service will be on Lugoff First Baptist Church YouTube and Facebook channels. We look forward to seeing you there. 
URL:https://lugofffbc.com/event/sunday-service-simulcast-2024-09-08/
LOCATION:106 Longtown Rd\, Lugoff\, SC\, 29078\, United States
CATEGORIES:Worship
ATTACH;FMTTYPE=image/png:https://lugofffbc.com/wp-content/uploads/2020/07/Screen-Shot-2020-07-07-at-8.28.04-AM.png
END:VEVENT
BEGIN:VEVENT
DTSTART;TZID=UTC:20240901T103000
DTEND;TZID=UTC:20240901T113000
DTSTAMP:20260419T152330
CREATED:20200707T163006Z
LAST-MODIFIED:20200707T163006Z
UID:1767-1725186600-1725190200@lugofffbc.com
SUMMARY:Sunday Service Simulcast
DESCRIPTION:Join us each week online as we share God’s Word on our Sunday Morning Worship Service at 10:30.  The service will be on Lugoff First Baptist Church YouTube and Facebook channels. We look forward to seeing you there. 
URL:https://lugofffbc.com/event/sunday-service-simulcast-2024-09-01/
LOCATION:106 Longtown Rd\, Lugoff\, SC\, 29078\, United States
CATEGORIES:Worship
ATTACH;FMTTYPE=image/png:https://lugofffbc.com/wp-content/uploads/2020/07/Screen-Shot-2020-07-07-at-8.28.04-AM.png
END:VEVENT
END:VCALENDAR